BEGIN:VCALENDAR
PRODID: -//Microsoft Corporation//Outlook 12.0 MIMEDIR//EN
VERSION:2.0
METHOD:PUBLISH
BEGIN:VEVENT
DTSTART:20210910T124000Z
DTEND:20210910T134000Z
LOCATION:
TRANSP:TRANSPARENT
SEQUENCE:0
UID:311
DTSTAMP:20210910T124000Z
DESCRIPTION:
SUMMARY:Barclays Global Consumer Staples Conference<br/>Tracey T. Travis, EVP and CFO
PRIORITY:5
X-MICROSOFT-CDO-IMPORTANCE:1
CLASS:PUBLIC
X-MICROSOFT-CDO-BUSYSTATUS:
END:VEVENT
END:VCALENDAR
